BEGIN:VCALENDAR
VERSION:2.0
PRODID:-//hacksw/handcal//NONSGML v1.0//EN
BEGIN:VEVENT
SUMMARY:TOURNOI DE REGULARITE
UID:d1decb41-e5c7-43a8-b92e-369c8567484c
DTSTART:20260417T163000Z
DTEND:20260417T214500Z
LOCATION:Localisation   
CATEGORIES:Sportif
STATUS:
URL;VALUE=URI:https://tarot-boulonnais.sportsregions.fr/evenements/2026/04/17/tournoi-de-regularite-2440150
END:VEVENT
END:VCALENDAR
